BEGIN:VCALENDAR
PRODID:-//github.com/rianjs/ical.net//NONSGML ical.net 4.0//EN
VERSION:2.0
BEGIN:VTIMEZONE
TZID:Eastern Standard Time
X-LIC-LOCATION:America/New_York
BEGIN:STANDARD
DTSTART:20241103T020000
RRULE:FREQ=YEARLY;BYDAY=1SU;BYMONTH=11
TZNAME:EST
TZOFFSETFROM:-0400
TZOFFSETTO:-0500
END:STANDARD
BEGIN:DAYLIGHT
DTSTART:20250309T020000
RRULE:FREQ=YEARLY;BYDAY=2SU;BYMONTH=3
TZNAME:EDT
TZOFFSETFROM:-0500
TZOFFSETTO:-0400
END:DAYLIGHT
END:VTIMEZONE
BEGIN:VEVENT
DESCRIPTION:On event day join us here - https://www.aptapelvichealth.org/a
 wards\n\n
DTEND;TZID=Eastern Standard Time;VALUE=DATE:20261016
DTSTAMP:20260420T002302Z
DTSTART;TZID=Eastern Standard Time;VALUE=DATE:20261015
LOCATION:https://www.aptapelvichealth.org/awards
ORGANIZER;CN=;SENT-BY="mailto:":
SEQUENCE:0
SUMMARY:APTA Pelvic Health: ?? Annual Award Nominations Due
UID:91b4d58a-33a1-4f2b-92e0-9f4e1ac6c68e
END:VEVENT
END:VCALENDAR
