BEGIN:VCALENDAR
PRODID:-//github.com/rianjs/ical.net//NONSGML ical.net 4.0//EN
VERSION:2.0
BEGIN:VTIMEZONE
TZID:Eastern Standard Time
X-LIC-LOCATION:America/New_York
BEGIN:STANDARD
DTSTART:20241103T020000
RRULE:FREQ=YEARLY;BYDAY=1SU;BYMONTH=11
TZNAME:EST
TZOFFSETFROM:-0400
TZOFFSETTO:-0500
END:STANDARD
BEGIN:DAYLIGHT
DTSTART:20250309T020000
RRULE:FREQ=YEARLY;BYDAY=2SU;BYMONTH=3
TZNAME:EDT
TZOFFSETFROM:-0500
TZOFFSETTO:-0400
END:DAYLIGHT
END:VTIMEZONE
BEGIN:VEVENT
DESCRIPTION:Student Special Interest Group (SSIG)
DTEND;TZID=Eastern Standard Time:20260528T193000
DTSTAMP:20260423T002459Z
DTSTART;TZID=Eastern Standard Time:20260528T183000
LOCATION:Join Us Virtually (Passcode 12345)
ORGANIZER;CN=;SENT-BY="mailto:":
SEQUENCE:0
SUMMARY:APTA Pelvic Health: Navigating the Transition from Student to Pelv
 ic Health Practitioner
UID:f266cc8a-7e89-4ad4-ba44-25e161ab188c
END:VEVENT
END:VCALENDAR
