BEGIN:VCALENDAR
PRODID:-//github.com/rianjs/ical.net//NONSGML ical.net 4.0//EN
VERSION:2.0
BEGIN:VTIMEZONE
TZID:Eastern Standard Time
X-LIC-LOCATION:America/New_York
BEGIN:STANDARD
DTSTART:20241103T020000
RRULE:FREQ=YEARLY;BYDAY=1SU;BYMONTH=11
TZNAME:EST
TZOFFSETFROM:-0400
TZOFFSETTO:-0500
END:STANDARD
BEGIN:DAYLIGHT
DTSTART:20250309T020000
RRULE:FREQ=YEARLY;BYDAY=2SU;BYMONTH=3
TZNAME:EDT
TZOFFSETFROM:-0500
TZOFFSETTO:-0400
END:DAYLIGHT
END:VTIMEZONE
BEGIN:VEVENT
DESCRIPTION:Hosted by the Academy's Chief Delegate\, Christina Wisdom\, PT
 \, DPT\, EdD
DTEND;TZID=Eastern Standard Time:20260615T193000
DTSTAMP:20260425T172140Z
DTSTART;TZID=Eastern Standard Time:20260615T183000
LOCATION:Join Us Virtually (Passcode 12345)
ORGANIZER;CN=;SENT-BY="mailto:":
SEQUENCE:0
SUMMARY:APTA Pelvic Health: ??? APTA Pelvic Health House of Delegates Town
  Hall
UID:c45c9759-282b-4627-9174-9dac6e6c03dc
END:VEVENT
END:VCALENDAR
